BEGIN:VCALENDAR
VERSION:2.0
PRODID:-//Freiwillige Feuerwehr Hennstedt//NONSGML Events//EN
CALSCALE:GREGORIAN
X-WR-CALNAME:Freiwillige Feuerwehr Hennstedt - Events
X-ORIGINAL-URL:https://www.feuerwehr-hennstedt.de/events/event/
X-WR-CALDESC:Freiwillige Feuerwehr Hennstedt - Events
BEGIN:VEVENT
UID:20260131T0510Z-1769836232.541-EO-601-1@127.0.0.1
STATUS:CONFIRMED
DTSTAMP:20260420T183228Z
CREATED:20260126T162753Z
LAST-MODIFIED:20260126T162753Z
DTSTART;TZID=Europe/Berlin:20260203T193000
DTEND;TZID=Europe/Berlin:20261201T213000
RRULE:FREQ=MONTHLY;INTERVAL=1;BYDAY=1TU;UNTIL=20261201T183000Z
SUMMARY: Übungsabend
X-ALT-DESC;FMTTYPE=text/html: 
CATEGORIES:Schulung
ORGANIZER;CN="juergen":MAILTO:juergen@juergenundthomas.de
URL;VALUE=URI:https://www.feuerwehr-hennstedt.de/events/event/uebungsabend/
END:VEVENT
BEGIN:VTIMEZONE
TZID:Europe/Berlin
BEGIN:STANDARD
TZOFFSETFROM:+0200
TZOFFSETTO:+0100
DTSTART:20251026T010000
TZNAME:CET
END:STANDARD
BEGIN:DAYLIGHT
TZOFFSETFROM:+0100
TZOFFSETTO:+0200
DTSTART:20260329T010000
TZNAME:CEST
END:DAYLIGHT
BEGIN:STANDARD
TZOFFSETFROM:+0200
TZOFFSETTO:+0100
DTSTART:20261025T010000
TZNAME:CET
END:STANDARD
END:VTIMEZONE
END:VCALENDAR
